BEGIN:VCALENDAR
PRODID:-//kirchenweb.ch gmbh//veranstaltungsausgabe v2.0//DE
VERSION:2.0
METHOD:PUBLISH
BEGIN:VEVENT
DTSTART:20211017T080000Z
DTEND:20211017T090000Z
LOCATION:Kirche\, \,
TRANSP:OPAQUE
SEQUENCE:0
UID:23846-veranstaltung@ref-rorschach.ch
DTSTAMP:20210930T115446Z
DESCRIPTION:Gottesdienst mit Predigtnachgespräch\n\nMit
  Covid-Zertifikatspflicht\nUnbegrenzte Teilnehmerzahl\nKeine Maske
  notwendig\n\nIn diesem Gottesdienst ist eine Taufe möglich. \nFür
  Kinder ist eine Spielecke eingerichtet. \nIm Anschluss sind alle herzlich
  zum ChileKafi eingeladen.\n\nKontakt: Pfr. Pius F. Helfenstein Tel. 071
  844 54 14\n\nWeitere Infos:
  https://www.ref-rorschach.ch/veranstaltung/23846
SUMMARY:Gottesdienst: Lehre uns bedenken\, dass wir sterben müssen
PRIORITY:5
X-MICROSOFT-CDO-IMPORTANCE:1
CLASS:PUBLIC
END:VEVENT
END:VCALENDAR
