BEGIN:VCALENDAR
PRODID:-//kirchenweb.ch gmbh//veranstaltungsausgabe v2.0//DE
VERSION:2.0
METHOD:PUBLISH
BEGIN:VEVENT
DTSTART:20210914T173000Z
DTEND:20210914T190000Z
LOCATION:EKZ - Evang. Kirchgemeindezentrum\, \,
TRANSP:OPAQUE
SEQUENCE:0
UID:21351-veranstaltung@ref-rorschach.ch
DTSTAMP:20210909T132108Z
DESCRIPTION:„Ich glaube\, hilf meinem Unglauben“\, heisst es in der
  Bibel in Markus 9\,24. Tatsächlich\, zu glauben scheint heute
  schwieriger denn je. - Macht Glaube angesichts aktueller
  wissenschaftlicher Erkenntnisse und unserer freiheitlichen
  Selbstbestimmung in Westeuropa heute noch Sinn?\n\nDazu meint Pfr. Pius
  F. Helfenstein: „Glaube hängt wesentlich von Gotteserfahrung und
  –begegnung ab.“ Anders sieht es Christian Reich. Er vertritt das
  ‚Homo Deus -Konzept‘ \, das auf Yuval Harari zurück geht und davon
  ausgeht\, dass der Mensch (homo) Gott (Deus) in seiner Funktion ablöst\,
  bzw. abgelöst hat.\n\nEin spannender Abend mit vielen echten Fragen und
  hoffentlich auch einigen Antworten erwartet uns.\n\nLeitung\nPfr. Pius F.
  Helfenstein und als Gast: Christian Reich\, Vertreter des Homo
  Deus-Konzepts nach Yuval Harari\n\n\nMit Covid-Zertifikatspflicht
 \nUnbegrenzte Teilnehmerzahl\nKeine Maske notwendig\n\n\n\n\nKontakt: Pfr.
  Pius F. Helfenstein Tel. 071 844 54 14\n\n\nWeitere Infos:
  https://www.ref-rorschach.ch/veranstaltung/21351
SUMMARY:Ansichtssache Glaube: Gott begegnen - aber wie?
PRIORITY:5
X-MICROSOFT-CDO-IMPORTANCE:1
CLASS:PUBLIC
END:VEVENT
END:VCALENDAR
