BEGIN:VCALENDAR
PRODID:-//kirchenweb.ch gmbh//veranstaltungsausgabe v2.0//DE
VERSION:2.0
METHOD:PUBLISH
BEGIN:VEVENT
DTSTART:20180109T180000Z
DTEND:20180109T200000Z
LOCATION:EKZ - Evang. Kirchgemeindezentrum\, \,
TRANSP:OPAQUE
SEQUENCE:0
UID:17635-veranstaltung@ref-rorschach.ch
DTSTAMP:20180102T083214Z
DESCRIPTION:Der Dokumentarfilm zeigt das Unterwegssein einer vornehmlich
  aus Frauen bestehenden Pilgergruppe auf ihrem Weg nach Rom. Nebst den
  Strapazen des Pilgerns macht der Film die Sehnsucht nach einer lebendigen
  Kirche sichtbar. In ihr soll die aktive Rolle der Frauen gestärkt
  werden.\nDie jungen engagierten Filmemacher setzten sich intensiv mit
  dieser Thematik auseinander. \nDabei ist ein unkonventioneller Film
  entstanden\, der Frauen und Männer bewegt und berührt.\nIm Anschluss:
  Gespräch und Apéro\n\nDokumentarfilm 110 Min\nDialekt \n
 \nOnline-Tickets Reservation. Reservieren Sie Ihren gewünschten Platz
  bequem am Computer. Die Tickets müssen spätestens 15 Minuten vor
  Kinobeginn bei der Kasse gekauft werden.
 \nhttp://www.cevikino.ch/reservation                    \n\n
  https://www.habemus-feminas.com/\n
 \nhttps://vimeo.com/224239838																																													
 																								\n\nKontakt: peter.bruderer@ref-rorschach.ch\n
 \nWeitere Infos: https://www.ref-rorschach.ch/veranstaltung/17635
SUMMARY:Cevi-Kino "HABEMUS FEMINAS!"
PRIORITY:5
X-MICROSOFT-CDO-IMPORTANCE:1
CLASS:PUBLIC
END:VEVENT
END:VCALENDAR
