BEGIN:VCALENDAR
PRODID:-//kirchenweb.ch gmbh//veranstaltungsausgabe v2.0//DE
VERSION:2.0
METHOD:PUBLISH
BEGIN:VEVENT
DTSTART:20170226T130000Z
DTEND:20170226T160000Z
LOCATION:EKZ - Evang. Kirchgemeindezentrum\, \,
TRANSP:OPAQUE
SEQUENCE:0
UID:16087-veranstaltung@ref-rorschach.ch
DTSTAMP:20170615T095155Z
DESCRIPTION:Von 14.00-15.00 Uhr findet das Frühlingskonzert statt. \n
 \nUte Rendar am Flügel begleitet Benjamin Berweger (Tenor).\n\n\nVon
  15.00-17.00 Uhr bewirten Jugendliche dann die Gäste mit Kaffee\, Tee\,
  Kuchen\, Waffeln\, Brötli für einen guten Zweck. \n\nHerzliche
  Einladung zu diesem Wellnessnachmittag für die Ohren und den Mund.\n
 \nKontakt: Pfr. Patrick Marchlewitz Tel. 071 855 48 65\n\nWeitere Infos:
  https://www.ref-rorschach.ch/veranstaltung/16087
SUMMARY:Frühlingskonzert mit Benefiz-Cafeteria
PRIORITY:5
X-MICROSOFT-CDO-IMPORTANCE:1
CLASS:PUBLIC
END:VEVENT
END:VCALENDAR
